BEGIN:VCALENDAR
VERSION:2.0
PRODID:-//https://www.sidepaq.bzh///NONSGML kigkonsult.se iCalcreator 2.10.20//
METHOD:PUBLISH
X-WR-CALNAME:Evénements du site https://www.sidepaq.bzh/
X-WR-TIMEZONE:Europe/Paris
BEGIN:VEVENT
UID:20260422T012225CEST-6746uUTA5N@https://www.sidepaq.bzh/
DTSTAMP:20260421T232225Z
COMMENT:La politique engagÃ©e repose autour de 4 axesÂ :\n\n- AmÃ©lioration
  continue de la performance Ã©nergÃ©tique des installationsÂ \;\n\n- Encou
 rager l'achat de produits et de services Ã©conomes en Ã©nergie et la conce
 ption dans une optique d'amÃ©lioration de la performance Ã©nergÃ©tiqueÂ \;
 \n\n- Maintenir la conformitÃ© rÃ©glementaire et contractuelleÂ \;\n\n- Ga
 rantir la disponibilitÃ© de l'information et des ressources nÃ©cessaires p
 our atteindre les objectifs et les cibles.\n\nAinsi\, chaque annÃ©e\, une 
 revue de management sera rÃ©alisÃ©e pour vÃ©rifier que les moyens mis en Å
 uvre ont Ã©tÃ© efficaces et ont permis lâatteinte des objectifs\, et ce
 \, dans le cadre dâun cercle vertueux qui promouvoir une amÃ©lioration e
 n continu.\n\nÂ \n
DESCRIPTION:Depuis le 3 mai 2016\, l'usine de Briec est certifiÃ©e IS0 5000
 1.\n\nCette nouvelle certification traduit les efforts engagÃ©s par le syn
 dicat et son exploitant en termes deÂ maÃ®trise de lâÃ©nergie.\n
DTSTART:20001130T000000
DTEND:19700101T000000
SUMMARY:ISO 50 001
END:VEVENT
BEGIN:VEVENT
UID:20260422T012225CEST-6748FrkT0n@https://www.sidepaq.bzh/
DTSTAMP:20260421T232225Z
COMMENT:Les nouveaux Ã©lus du SIDEPAQ ont Ã©tÃ© dÃ©signÃ©s au sein de chaqu
 e collectivitÃ© et l'Ã©lection du prÃ©sident\, des vice-prÃ©sidents et du 
 bureau s'est rÃ©alisÃ©e le 22 mai 2019.\n
DESCRIPTION:
DTSTART:20001130T000000
DTEND:19700101T000000
SUMMARY:Les élus du SIDEPAQ
END:VEVENT
END:VCALENDAR
